BEGIN:VCALENDAR
VERSION:2.0
PRODID:-//hacksw/handcal//NONSGML v1.0//EN
CALSCALE:GREGORIAN
BEGIN:VEVENT
SUMMARY:Der Astronaut - Project Hail Mary
DTSTART:20260425T183000Z
DTEND:20260425T213700Z
GEO:51.07124;13.75051
LOCATION:Filmtheater Schauburg\, Königsbrücker Straße 55\, 01099 Dresden
DESCRIPTION:
URL;VALUE=URI:http://www.kinokalender.com/termin1600768.html
DTSTAMP:20260423T231320Z
UID:69eaa790e5404
END:VEVENT
END:VCALENDAR