BEGIN:VCALENDAR
VERSION:2.0
PRODID:-//hacksw/handcal//NONSGML v1.0//EN
CALSCALE:GREGORIAN
BEGIN:VEVENT
SUMMARY:Der Magier im Kreml
DTSTART:20260422T131500Z
DTEND:20260422T161000Z
GEO:51.07124;13.75051
LOCATION:Filmtheater Schauburg\, Königsbrücker Straße 55\, 01099 Dresden
DESCRIPTION:
URL;VALUE=URI:http://www.kinokalender.com/termin1600297.html
DTSTAMP:20260423T173159Z
UID:69ea578ff2bc3
END:VEVENT
END:VCALENDAR