BEGIN:VCALENDAR
VERSION:2.0
PRODID:-//hacksw/handcal//NONSGML v1.0//EN
CALSCALE:GREGORIAN
BEGIN:VEVENT
SUMMARY:Für immer ein Teil von dir - Reminders of Him
DTSTART:20260423T120000Z
DTEND:20260423T142500Z
GEO:51.04487;13.73697
LOCATION:Rundkino Dresden\, Prager Straße 6\, 01069 Dresden
DESCRIPTION:
URL;VALUE=URI:http://www.kinokalender.com/termin1600128.html
DTSTAMP:20260425T102023Z
UID:69ec9567bb343
END:VEVENT
END:VCALENDAR