BEGIN:VCALENDAR
VERSION:2.0
PRODID:-//hacksw/handcal//NONSGML v1.0//EN
CALSCALE:GREGORIAN
BEGIN:VEVENT
SUMMARY:How to Make a Killing - Todsicheres Erbe
DTSTART:20260424T151500Z
DTEND:20260424T173000Z
GEO:51.04487;13.73697
LOCATION:Rundkino Dresden\, Prager Straße 6\, 01069 Dresden
DESCRIPTION:
URL;VALUE=URI:http://www.kinokalender.com/termin1600093.html
DTSTAMP:20260425T155956Z
UID:69ece4fc13db6
END:VEVENT
END:VCALENDAR