BEGIN:VCALENDAR
VERSION:2.0
PRODID:-//hacksw/handcal//NONSGML v1.0//EN
CALSCALE:GREGORIAN
BEGIN:VEVENT
SUMMARY:Das Drama - Noch mal auf Anfang
DTSTART:20260426T174500Z
DTEND:20260426T200000Z
GEO:51.04487;13.73697
LOCATION:Rundkino Dresden\, Prager Straße 6\, 01069 Dresden
DESCRIPTION:
URL;VALUE=URI:http://www.kinokalender.com/termin1600090.html
DTSTAMP:20260422T021932Z
UID:69e830340feeb
END:VEVENT
END:VCALENDAR