BEGIN:VCALENDAR
VERSION:2.0
PRODID:-//hacksw/handcal//NONSGML v1.0//EN
CALSCALE:GREGORIAN
BEGIN:VEVENT
SUMMARY:Das Drama - Noch mal auf Anfang
DTSTART:20260424T150000Z
DTEND:20260424T171500Z
GEO:51.04487;13.73697
LOCATION:Rundkino Dresden\, Prager Straße 6\, 01069 Dresden
DESCRIPTION:
URL;VALUE=URI:http://www.kinokalender.com/termin1600074.html
DTSTAMP:20260422T022111Z
UID:69e830976a75d
END:VEVENT
END:VCALENDAR