BEGIN:VCALENDAR
VERSION:2.0
PRODID:-//hacksw/handcal//NONSGML v1.0//EN
CALSCALE:GREGORIAN
BEGIN:VEVENT
SUMMARY:Lustiges Pettersson und Findus Mitmachkino 2
DTSTART:20260425T114500Z
DTEND:20260425T131500Z
GEO:51.08285;13.69562
LOCATION:UCI-Kinowelt\, Lommatzscher Straße 82\, Elbepark\, 01139 Dresden-Mickten
DESCRIPTION:
URL;VALUE=URI:http://www.kinokalender.com/termin1599922.html
DTSTAMP:20260423T142149Z
UID:69ea2afdba4ba
END:VEVENT
END:VCALENDAR