BEGIN:VCALENDAR
VERSION:2.0
PRODID:-//hacksw/handcal//NONSGML v1.0//EN
CALSCALE:GREGORIAN
BEGIN:VEVENT
SUMMARY:G.O.A.T. - Bock auf große Sprünge
DTSTART:20260424T114000Z
GEO:51.08285;13.69562
LOCATION:UCI-Kinowelt\, Lommatzscher Straße 82\, Elbepark\, 01139 Dresden-Mickten
DESCRIPTION:
URL;VALUE=URI:http://www.kinokalender.com/termin1599864.html
DTSTAMP:20260422T024800Z
UID:69e836e01d78b
END:VEVENT
END:VCALENDAR