BEGIN:VCALENDAR
VERSION:2.0
PRODID:-//hacksw/handcal//NONSGML v1.0//EN
CALSCALE:GREGORIAN
BEGIN:VEVENT
SUMMARY:Der Teufel trägt Prada 2
DTSTART:20260503T175500Z
DTEND:20260503T201800Z
GEO:51.08285;13.69562
LOCATION:UCI-Kinowelt\, Lommatzscher Straße 82\, Elbepark\, 01139 Dresden-Mickten
DESCRIPTION:
URL;VALUE=URI:http://www.kinokalender.com/termin1599843.html
DTSTAMP:20260422T005937Z
UID:69e81d79e7e07
END:VEVENT
END:VCALENDAR