BEGIN:VCALENDAR
VERSION:2.0
PRODID:-//hacksw/handcal//NONSGML v1.0//EN
CALSCALE:GREGORIAN
BEGIN:VEVENT
SUMMARY:Der Magier im Kreml
DTSTART:20260421T093000Z
DTEND:20260421T122500Z
GEO:51.07124;13.75051
LOCATION:Filmtheater Schauburg\, Königsbrücker Straße 55\, 01099 Dresden
DESCRIPTION:
URL;VALUE=URI:http://www.kinokalender.com/termin1599720.html
DTSTAMP:20260422T005927Z
UID:69e81d6fe5301
END:VEVENT
END:VCALENDAR