BEGIN:VCALENDAR
VERSION:2.0
PRODID:-//hacksw/handcal//NONSGML v1.0//EN
CALSCALE:GREGORIAN
BEGIN:VEVENT
SUMMARY:Das Drama - Noch mal auf Anfang
DTSTART:20260421T203000Z
DTEND:20260421T224500Z
GEO:51.07124;13.75051
LOCATION:Filmtheater Schauburg\, Königsbrücker Straße 55\, 01099 Dresden
DESCRIPTION:
URL;VALUE=URI:http://www.kinokalender.com/termin1599718.html
DTSTAMP:20260422T022045Z
UID:69e8307de0172
END:VEVENT
END:VCALENDAR