BEGIN:VCALENDAR
VERSION:2.0
PRODID:-//hacksw/handcal//NONSGML v1.0//EN
CALSCALE:GREGORIAN
BEGIN:VEVENT
SUMMARY:Kurzfilmprogramm Clermont-Ferrand 2026
DTSTART:20260510T181500Z
DTEND:20260510T201200Z
GEO:51.03911;13.80653
LOCATION:Programmkino Ost\, Schandauer Straße 73\, 01277 Dresden-Striesen
DESCRIPTION:
URL;VALUE=URI:http://www.kinokalender.com/termin1599696.html
DTSTAMP:20260421T020550Z
UID:69e6db7e1828b
END:VEVENT
END:VCALENDAR