BEGIN:VCALENDAR
VERSION:2.0
PRODID:-//hacksw/handcal//NONSGML v1.0//EN
CALSCALE:GREGORIAN
BEGIN:VEVENT
SUMMARY:Die Ferien des Monsieur Hulot
DTSTART:20260510T133000Z
DTEND:20260510T152800Z
GEO:51.03911;13.80653
LOCATION:Programmkino Ost\, Schandauer Straße 73\, 01277 Dresden-Striesen
DESCRIPTION:
URL;VALUE=URI:http://www.kinokalender.com/termin1599693.html
DTSTAMP:20260421T002259Z
UID:69e6c363b44bd
END:VEVENT
END:VCALENDAR