BEGIN:VCALENDAR
VERSION:2.0
PRODID:-//hacksw/handcal//NONSGML v1.0//EN
CALSCALE:GREGORIAN
BEGIN:VEVENT
SUMMARY:Jacques Tati – Sein Leben und seine Kunst
DTSTART:20260508T160000Z
GEO:51.03911;13.80653
LOCATION:Programmkino Ost\, Schandauer Straße 73\, 01277 Dresden-Striesen
DESCRIPTION:
URL;VALUE=URI:http://www.kinokalender.com/termin1599677.html
DTSTAMP:20260424T085349Z
UID:69eb2f9d8ea40
END:VEVENT
END:VCALENDAR