BEGIN:VCALENDAR
VERSION:2.0
PRODID:-//hacksw/handcal//NONSGML v1.0//EN
CALSCALE:GREGORIAN
BEGIN:VEVENT
SUMMARY:Die drei Tage des Condor
DTSTART:20260505T180000Z
DTEND:20260505T203200Z
GEO:51.03911;13.80653
LOCATION:Programmkino Ost\, Schandauer Straße 73\, 01277 Dresden-Striesen
DESCRIPTION:
URL;VALUE=URI:http://www.kinokalender.com/termin1599666.html
DTSTAMP:20260422T005818Z
UID:69e81d2a48659
END:VEVENT
END:VCALENDAR