BEGIN:VCALENDAR
VERSION:2.0
PRODID:-//hacksw/handcal//NONSGML v1.0//EN
CALSCALE:GREGORIAN
BEGIN:VEVENT
SUMMARY:Wise Women
DTSTART:20260505T173000Z
DTEND:20260505T192800Z
GEO:51.03911;13.80653
LOCATION:Programmkino Ost\, Schandauer Straße 73\, 01277 Dresden-Striesen
DESCRIPTION:
URL;VALUE=URI:http://www.kinokalender.com/termin1599665.html
DTSTAMP:20260422T005814Z
UID:69e81d2655c8d
END:VEVENT
END:VCALENDAR