BEGIN:VCALENDAR
VERSION:2.0
PRODID:-//hacksw/handcal//NONSGML v1.0//EN
CALSCALE:GREGORIAN
BEGIN:VEVENT
SUMMARY:Die Schatzsuche im Blaumeisental
DTSTART:20260510T133000Z
DTEND:20260510T151700Z
GEO:51.03911;13.80653
LOCATION:Programmkino Ost\, Schandauer Straße 73\, 01277 Dresden-Striesen
DESCRIPTION:
URL;VALUE=URI:http://www.kinokalender.com/termin1599659.html
DTSTAMP:20260421T020412Z
UID:69e6db1c07d3c
END:VEVENT
END:VCALENDAR