BEGIN:VCALENDAR
VERSION:2.0
PRODID:-//hacksw/handcal//NONSGML v1.0//EN
CALSCALE:GREGORIAN
BEGIN:VEVENT
SUMMARY:Monte Verità
DTSTART:20260422T173000Z
DTEND:20260422T195600Z
GEO:51.03911;13.80653
LOCATION:Programmkino Ost\, Schandauer Straße 73\, 01277 Dresden-Striesen
DESCRIPTION:
URL;VALUE=URI:http://www.kinokalender.com/termin1599615.html
DTSTAMP:20260425T203018Z
UID:69ed245ade437
END:VEVENT
END:VCALENDAR