BEGIN:VCALENDAR
VERSION:2.0
PRODID:-//hacksw/handcal//NONSGML v1.0//EN
CALSCALE:GREGORIAN
BEGIN:VEVENT
SUMMARY:Michael
DTSTART:20260422T183000Z
DTEND:20260422T210700Z
GEO:51.03911;13.80653
LOCATION:Programmkino Ost\, Schandauer Straße 73\, 01277 Dresden-Striesen
DESCRIPTION:
URL;VALUE=URI:http://www.kinokalender.com/termin1599592.html
DTSTAMP:20260422T004204Z
UID:69e8195c0a924
END:VEVENT
END:VCALENDAR