BEGIN:VCALENDAR
VERSION:2.0
PRODID:-//hacksw/handcal//NONSGML v1.0//EN
CALSCALE:GREGORIAN
BEGIN:VEVENT
SUMMARY:The History Of Sound
DTSTART:20260426T094500Z
DTEND:20260426T122400Z
GEO:51.03911;13.80653
LOCATION:Programmkino Ost\, Schandauer Straße 73\, 01277 Dresden-Striesen
DESCRIPTION:
URL;VALUE=URI:http://www.kinokalender.com/termin1599558.html
DTSTAMP:20260421T073247Z
UID:69e7281f889e5
END:VEVENT
END:VCALENDAR