BEGIN:VCALENDAR
VERSION:2.0
PRODID:-//hacksw/handcal//NONSGML v1.0//EN
CALSCALE:GREGORIAN
BEGIN:VEVENT
SUMMARY:Zwischen Uns Das Meer
DTSTART:20260429T150000Z
DTEND:20260429T172700Z
GEO:51.052574;13.721402
LOCATION:Zentralkino\, Kraftwerk Mitte 16\, 01067 Dresden-Mitte
DESCRIPTION:
URL;VALUE=URI:http://www.kinokalender.com/termin1599493.html
DTSTAMP:20260425T174106Z
UID:69ecfcb24bdb2
END:VEVENT
END:VCALENDAR