BEGIN:VCALENDAR
VERSION:2.0
PRODID:-//hacksw/handcal//NONSGML v1.0//EN
CALSCALE:GREGORIAN
BEGIN:VEVENT
SUMMARY:Die Reichste Frau Der Welt
DTSTART:20260424T130000Z
DTEND:20260424T153100Z
GEO:51.052574;13.721402
LOCATION:Zentralkino\, Kraftwerk Mitte 16\, 01067 Dresden-Mitte
DESCRIPTION:
URL;VALUE=URI:http://www.kinokalender.com/termin1599480.html
DTSTAMP:20260421T213953Z
UID:69e7eea9c219b
END:VEVENT
END:VCALENDAR