BEGIN:VCALENDAR
VERSION:2.0
PRODID:-//hacksw/handcal//NONSGML v1.0//EN
CALSCALE:GREGORIAN
BEGIN:VEVENT
SUMMARY:Vier minus Drei
DTSTART:20260424T153000Z
DTEND:20260424T180000Z
GEO:51.052574;13.721402
LOCATION:Zentralkino\, Kraftwerk Mitte 16\, 01067 Dresden-Mitte
DESCRIPTION:
URL;VALUE=URI:http://www.kinokalender.com/termin1599467.html
DTSTAMP:20260422T012545Z
UID:69e82399db6e2
END:VEVENT
END:VCALENDAR