BEGIN:VCALENDAR
VERSION:2.0
PRODID:-//hacksw/handcal//NONSGML v1.0//EN
CALSCALE:GREGORIAN
BEGIN:VEVENT
SUMMARY:Pillion
DTSTART:20260428T131500Z
DTEND:20260428T153200Z
GEO:51.052574;13.721402
LOCATION:Zentralkino\, Kraftwerk Mitte 16\, 01067 Dresden-Mitte
DESCRIPTION:
URL;VALUE=URI:http://www.kinokalender.com/termin1599460.html
DTSTAMP:20260425T220934Z
UID:69ed3b9e3e4dc
END:VEVENT
END:VCALENDAR