BEGIN:VCALENDAR
VERSION:2.0
PRODID:-//hacksw/handcal//NONSGML v1.0//EN
CALSCALE:GREGORIAN
BEGIN:VEVENT
SUMMARY:Pillion (OmdU)
DTSTART:20260429T200000Z
DTEND:20260429T221700Z
GEO:51.06687;13.75428
LOCATION:Thalia\, Görlitzer Str. 6\, 01099 Dresden-Neustadt
DESCRIPTION:
URL;VALUE=URI:http://www.kinokalender.com/termin1599428.html
DTSTAMP:20260425T220929Z
UID:69ed3b99c2eb8
END:VEVENT
END:VCALENDAR