BEGIN:VCALENDAR
VERSION:2.0
PRODID:-//hacksw/handcal//NONSGML v1.0//EN
CALSCALE:GREGORIAN
BEGIN:VEVENT
SUMMARY:The History of Sound (OmdU)
DTSTART:20260424T160000Z
DTEND:20260424T183700Z
GEO:51.06687;13.75428
LOCATION:Thalia\, Görlitzer Str. 6\, 01099 Dresden-Neustadt
DESCRIPTION:
URL;VALUE=URI:http://www.kinokalender.com/termin1599415.html
DTSTAMP:20260421T073443Z
UID:69e72893e8bc7
END:VEVENT
END:VCALENDAR