BEGIN:VCALENDAR
VERSION:2.0
PRODID:-//hacksw/handcal//NONSGML v1.0//EN
CALSCALE:GREGORIAN
BEGIN:VEVENT
SUMMARY:Vaazha II: Biopic of a Billion Bros
DTSTART:20260418T081500Z
GEO:51.05182;13.80533
LOCATION:CinemaxX\, Hüblerstr. 8\, 01309 Dresden
DESCRIPTION:
URL;VALUE=URI:http://www.kinokalender.com/termin1599349.html
DTSTAMP:20260422T091116Z
UID:69e890b49bb78
END:VEVENT
END:VCALENDAR