BEGIN:VCALENDAR
VERSION:2.0
PRODID:-//hacksw/handcal//NONSGML v1.0//EN
CALSCALE:GREGORIAN
BEGIN:VEVENT
SUMMARY:Scream 7
DTSTART:20260421T152000Z
DTEND:20260421T174400Z
GEO:51.04487;13.73697
LOCATION:Rundkino Dresden\, Prager Straße 6\, 01069 Dresden
DESCRIPTION:
URL;VALUE=URI:http://www.kinokalender.com/termin1598675.html
DTSTAMP:20260423T180111Z
UID:69ea5e678c717
END:VEVENT
END:VCALENDAR