BEGIN:VCALENDAR
VERSION:2.0
PRODID:-//hacksw/handcal//NONSGML v1.0//EN
CALSCALE:GREGORIAN
BEGIN:VEVENT
SUMMARY:How to Make a Killing: Todsicheres Erbe
DTSTART:20260421T180500Z
DTEND:20260421T202000Z
GEO:51.08285;13.69562
LOCATION:UCI-Kinowelt\, Lommatzscher Straße 82\, Elbepark\, 01139 Dresden-Mickten
DESCRIPTION:
URL;VALUE=URI:http://www.kinokalender.com/termin1598522.html
DTSTAMP:20260419T184509Z
UID:69e522b54a31c
END:VEVENT
END:VCALENDAR