BEGIN:VCALENDAR
VERSION:2.0
PRODID:-//hacksw/handcal//NONSGML v1.0//EN
CALSCALE:GREGORIAN
BEGIN:VEVENT
SUMMARY:Siri Hustvedt - Dance Around the Self
DTSTART:20260413T100000Z
DTEND:20260413T122100Z
GEO:51.07124;13.75051
LOCATION:Filmtheater Schauburg\, Königsbrücker Straße 55\, 01099 Dresden
DESCRIPTION:
URL;VALUE=URI:http://www.kinokalender.com/termin1598073.html
DTSTAMP:20260425T172625Z
UID:69ecf941c4de2
END:VEVENT
END:VCALENDAR