BEGIN:VCALENDAR
VERSION:2.0
PRODID:-//hacksw/handcal//NONSGML v1.0//EN
CALSCALE:GREGORIAN
BEGIN:VEVENT
SUMMARY:G.O.A.T. - Bock auf Große Sprünge
DTSTART:20260321T110000Z
DTEND:20260321T131000Z
GEO:51.07124;13.75051
LOCATION:Filmtheater Schauburg\, Königsbrücker Straße 55\, 01099 Dresden
DESCRIPTION:
URL;VALUE=URI:http://www.kinokalender.com/termin1592843.html
DTSTAMP:20260423T004922Z
UID:69e96c926900d
END:VEVENT
END:VCALENDAR