BEGIN:VCALENDAR
VERSION:2.0
PRODID:-//hacksw/handcal//NONSGML v1.0//EN
CALSCALE:GREGORIAN
BEGIN:VEVENT
SUMMARY:Therapie für Wikinger
DTSTART:20260316T171500Z
DTEND:20260316T194100Z
GEO:51.07124;13.75051
LOCATION:Filmtheater Schauburg\, Königsbrücker Straße 55\, 01099 Dresden
DESCRIPTION:
URL;VALUE=URI:http://www.kinokalender.com/termin1591475.html
DTSTAMP:20260424T085355Z
UID:69eb2fa3ac976
END:VEVENT
END:VCALENDAR