BEGIN:VCALENDAR
VERSION:2.0
PRODID:-//hacksw/handcal//NONSGML v1.0//EN
CALSCALE:GREGORIAN
BEGIN:VEVENT
SUMMARY:G.O.A.T. - Bock auf Große Sprünge
DTSTART:20260315T100000Z
DTEND:20260315T121000Z
GEO:51.07124;13.75051
LOCATION:Filmtheater Schauburg\, Königsbrücker Straße 55\, 01099 Dresden
DESCRIPTION:
URL;VALUE=URI:http://www.kinokalender.com/termin1591441.html
DTSTAMP:20260423T091316Z
UID:69e9e2ac7378f
END:VEVENT
END:VCALENDAR