BEGIN:VCALENDAR
VERSION:2.0
PRODID:-//hacksw/handcal//NONSGML v1.0//EN
CALSCALE:GREGORIAN
BEGIN:VEVENT
SUMMARY:Allegro Pastell
DTSTART:20260428T180000Z
DTEND:20260428T201000Z
GEO:51.06687;13.75428
LOCATION:Thalia\, Görlitzer Str. 6\, 01099 Dresden-Neustadt
DESCRIPTION:
URL;VALUE=URI:http://www.kinokalender.com/termin1590110.html
DTSTAMP:20260421T073341Z
UID:69e7285557d7c
END:VEVENT
END:VCALENDAR