BEGIN:VCALENDAR
VERSION:2.0
PRODID:-//hacksw/handcal//NONSGML v1.0//EN
CALSCALE:GREGORIAN
BEGIN:VEVENT
SUMMARY:Tommy Tom - Ein neuer Freund für Tommy Tom
DTSTART:20260307T083000Z
DTEND:20260307T100000Z
GEO:51.07124;13.75051
LOCATION:Filmtheater Schauburg\, Königsbrücker Straße 55\, 01099 Dresden
DESCRIPTION:
URL;VALUE=URI:http://www.kinokalender.com/termin1589968.html
DTSTAMP:20260423T091152Z
UID:69e9e258f0982
END:VEVENT
END:VCALENDAR