BEGIN:VCALENDAR
VERSION:2.0
PRODID:-//hacksw/handcal//NONSGML v1.0//EN
CALSCALE:GREGORIAN
BEGIN:VEVENT
SUMMARY:Extrawurst
DTSTART:20260308T170000Z
DTEND:20260308T190800Z
GEO:51.05182;13.80533
LOCATION:CinemaxX\, Hüblerstr. 8\, 01309 Dresden
DESCRIPTION:
URL;VALUE=URI:http://www.kinokalender.com/termin1589707.html
DTSTAMP:20260422T104941Z
UID:69e8a7c52052f
END:VEVENT
END:VCALENDAR