BEGIN:VCALENDAR
VERSION:2.0
PRODID:-//hacksw/handcal//NONSGML v1.0//EN
CALSCALE:GREGORIAN
BEGIN:VEVENT
SUMMARY:Ein fast perfekter Antrag
DTSTART:20260309T163000Z
DTEND:20260309T184500Z
GEO:51.05182;13.80533
LOCATION:CinemaxX\, Hüblerstr. 8\, 01309 Dresden
DESCRIPTION:
URL;VALUE=URI:http://www.kinokalender.com/termin1589697.html
DTSTAMP:20260422T064236Z
UID:69e86ddc29990
END:VEVENT
END:VCALENDAR