BEGIN:VCALENDAR
VERSION:2.0
PRODID:-//hacksw/handcal//NONSGML v1.0//EN
CALSCALE:GREGORIAN
BEGIN:VEVENT
SUMMARY:Die Ältern
DTSTART:20260307T120000Z
DTEND:20260307T141400Z
GEO:51.05182;13.80533
LOCATION:CinemaxX\, Hüblerstr. 8\, 01309 Dresden
DESCRIPTION:
URL;VALUE=URI:http://www.kinokalender.com/termin1589673.html
DTSTAMP:20260421T223708Z
UID:69e7fc1497442
END:VEVENT
END:VCALENDAR