BEGIN:VCALENDAR
VERSION:2.0
PRODID:-//hacksw/handcal//NONSGML v1.0//EN
CALSCALE:GREGORIAN
BEGIN:VEVENT
SUMMARY:Checker Tobi 3 - Die heimliche Herrscherin der Erde
DTSTART:20260310T130000Z
DTEND:20260310T150300Z
GEO:51.05182;13.80533
LOCATION:CinemaxX\, Hüblerstr. 8\, 01309 Dresden
DESCRIPTION:
URL;VALUE=URI:http://www.kinokalender.com/termin1589665.html
DTSTAMP:20260419T182158Z
UID:69e51d463e00d
END:VEVENT
END:VCALENDAR