BEGIN:VCALENDAR
VERSION:2.0
PRODID:-//hacksw/handcal//NONSGML v1.0//EN
CALSCALE:GREGORIAN
BEGIN:VEVENT
SUMMARY:Ach diese Lücke\, diese entsetzliche Lücke
DTSTART:20260311T160000Z
GEO:51.05182;13.80533
LOCATION:CinemaxX\, Hüblerstr. 8\, 01309 Dresden
DESCRIPTION:
URL;VALUE=URI:http://www.kinokalender.com/termin1589657.html
DTSTAMP:20260421T020304Z
UID:69e6dad8efa1b
END:VEVENT
END:VCALENDAR