BEGIN:VCALENDAR
VERSION:2.0
PRODID:-//hacksw/handcal//NONSGML v1.0//EN
CALSCALE:GREGORIAN
BEGIN:VEVENT
SUMMARY:Wuthering Heights - Sturmhöhe
DTSTART:20260311T183000Z
DTEND:20260311T211600Z
GEO:51.05182;13.80533
LOCATION:CinemaxX\, Hüblerstr. 8\, 01309 Dresden
DESCRIPTION:
URL;VALUE=URI:http://www.kinokalender.com/termin1589650.html
DTSTAMP:20260421T072434Z
UID:69e726323fcf8
END:VEVENT
END:VCALENDAR