BEGIN:VCALENDAR
VERSION:2.0
PRODID:-//hacksw/handcal//NONSGML v1.0//EN
CALSCALE:GREGORIAN
BEGIN:VEVENT
SUMMARY:The Housemaid - Wenn Sie wüsste
DTSTART:20260311T190000Z
DTEND:20260311T214100Z
GEO:51.04384;13.73755
LOCATION:Cineplex Kristallpalast Dresden\, St. Petersburger Straße 24a\, 01069 Dresden
DESCRIPTION:
URL;VALUE=URI:http://www.kinokalender.com/termin1589156.html
DTSTAMP:20260421T020437Z
UID:69e6db3510616
END:VEVENT
END:VCALENDAR