BEGIN:VCALENDAR
VERSION:2.0
PRODID:-//hacksw/handcal//NONSGML v1.0//EN
CALSCALE:GREGORIAN
BEGIN:VEVENT
SUMMARY:The Housemaid - Wenn Sie wüsste
DTSTART:20260310T185000Z
DTEND:20260310T213100Z
GEO:51.04384;13.73755
LOCATION:Cineplex Kristallpalast Dresden\, St. Petersburger Straße 24a\, 01069 Dresden
DESCRIPTION:
URL;VALUE=URI:http://www.kinokalender.com/termin1589155.html
DTSTAMP:20260420T015440Z
UID:69e587608b938
END:VEVENT
END:VCALENDAR