BEGIN:VCALENDAR
VERSION:2.0
PRODID:-//hacksw/handcal//NONSGML v1.0//EN
CALSCALE:GREGORIAN
BEGIN:VEVENT
SUMMARY:Die Ältern
DTSTART:20260311T154000Z
DTEND:20260311T175400Z
GEO:51.08285;13.69562
LOCATION:UCI-Kinowelt\, Lommatzscher Straße 82\, Elbepark\, 01139 Dresden-Mickten
DESCRIPTION:
URL;VALUE=URI:http://www.kinokalender.com/termin1588666.html
DTSTAMP:20260421T020426Z
UID:69e6db2adae9e
END:VEVENT
END:VCALENDAR