BEGIN:VCALENDAR
VERSION:2.0
PRODID:-//hacksw/handcal//NONSGML v1.0//EN
CALSCALE:GREGORIAN
BEGIN:VEVENT
SUMMARY:Die progressiven Nostalgiker
DTSTART:20260307T133000Z
DTEND:20260307T154300Z
GEO:51.052574;13.721402
LOCATION:Zentralkino\, Kraftwerk Mitte 16\, 01067 Dresden-Mitte
DESCRIPTION:
URL;VALUE=URI:http://www.kinokalender.com/termin1588623.html
DTSTAMP:20260419T223012Z
UID:69e55774b309f
END:VEVENT
END:VCALENDAR