BEGIN:VCALENDAR
VERSION:2.0
PRODID:-//hacksw/handcal//NONSGML v1.0//EN
CALSCALE:GREGORIAN
BEGIN:VEVENT
SUMMARY:Gelbe Briefe
DTSTART:20260310T191500Z
DTEND:20260310T215300Z
GEO:51.052574;13.721402
LOCATION:Zentralkino\, Kraftwerk Mitte 16\, 01067 Dresden-Mitte
DESCRIPTION:
URL;VALUE=URI:http://www.kinokalender.com/termin1588612.html
DTSTAMP:20260423T142224Z
UID:69ea2b20c13a0
END:VEVENT
END:VCALENDAR