BEGIN:VCALENDAR
VERSION:2.0
PRODID:-//hacksw/handcal//NONSGML v1.0//EN
CALSCALE:GREGORIAN
BEGIN:VEVENT
SUMMARY:Dust Bunny
DTSTART:20260311T194500Z
DTEND:20260311T220100Z
GEO:51.052574;13.721402
LOCATION:Zentralkino\, Kraftwerk Mitte 16\, 01067 Dresden-Mitte
DESCRIPTION:
URL;VALUE=URI:http://www.kinokalender.com/termin1588598.html
DTSTAMP:20260422T012551Z
UID:69e8239feb3f2
END:VEVENT
END:VCALENDAR