BEGIN:VCALENDAR
VERSION:2.0
PRODID:-//hacksw/handcal//NONSGML v1.0//EN
CALSCALE:GREGORIAN
BEGIN:VEVENT
SUMMARY:Father Mother Sister Brother
DTSTART:20260311T170000Z
DTEND:20260311T192000Z
GEO:51.052574;13.721402
LOCATION:Zentralkino\, Kraftwerk Mitte 16\, 01067 Dresden-Mitte
DESCRIPTION:
URL;VALUE=URI:http://www.kinokalender.com/termin1588597.html
DTSTAMP:20260421T072429Z
UID:69e7262d66d9e
END:VEVENT
END:VCALENDAR