BEGIN:VCALENDAR
VERSION:2.0
PRODID:-//hacksw/handcal//NONSGML v1.0//EN
CALSCALE:GREGORIAN
BEGIN:VEVENT
SUMMARY:Zoomania 2
DTSTART:20260228T111500Z
DTEND:20260228T133300Z
GEO:51.07124;13.75051
LOCATION:Filmtheater Schauburg\, Königsbrücker Straße 55\, 01099 Dresden
DESCRIPTION:
URL;VALUE=URI:http://www.kinokalender.com/termin1588439.html
DTSTAMP:20260420T132205Z
UID:69e6287d1684f
END:VEVENT
END:VCALENDAR