BEGIN:VCALENDAR
VERSION:2.0
PRODID:-//hacksw/handcal//NONSGML v1.0//EN
CALSCALE:GREGORIAN
BEGIN:VEVENT
SUMMARY:Wuthering Heights - Sturmhöhe
DTSTART:20260303T190000Z
DTEND:20260303T214600Z
GEO:51.05182;13.80533
LOCATION:CinemaxX\, Hüblerstr. 8\, 01309 Dresden
DESCRIPTION:
URL;VALUE=URI:http://www.kinokalender.com/termin1587945.html
DTSTAMP:20260423T091325Z
UID:69e9e2b5beddf
END:VEVENT
END:VCALENDAR